BEGIN:VCALENDAR
VERSION:2.0
PRODID:-//GAIL - ECPv6.11.2//NONSGML v1.0//EN
CALSCALE:GREGORIAN
METHOD:PUBLISH
X-WR-CALNAME:GAIL
X-ORIGINAL-URL:https://gailschools.org
X-WR-CALDESC:Events for GAIL
REFRESH-INTERVAL;VALUE=DURATION:PT1H
X-Robots-Tag:noindex
X-PUBLISHED-TTL:PT1H
BEGIN:VTIMEZONE
TZID:UTC
BEGIN:STANDARD
TZOFFSETFROM:+0000
TZOFFSETTO:+0000
TZNAME:UTC
DTSTART:20260101T000000
END:STANDARD
END:VTIMEZONE
BEGIN:VEVENT
DTSTART;TZID=UTC:20260628T080000
DTEND;TZID=UTC:20260704T170000
DTSTAMP:20260424T122840
CREATED:20251028T104333Z
LAST-MODIFIED:20251028T104333Z
UID:2865-1782633600-1783184400@gailschools.org
SUMMARY:2026 GAIL Conference: India
DESCRIPTION:Jalam Jivanam – Water is Life \nThe flowing spirit of GAIL India 2026\, inspiring students to service\, action and connection. \nWater connects\, sustains and transforms. As it flows across world borders\, connecting diverse \ncommunities and faiths\, it reminds us of our interdependence and shared humanity. As a life-giving \nsource\, it exhorts us to nurture and sustainably protect our environment and its resources. And as a \nforce of almost unlimited power\, it invites us to be the transformative change we want to see in the \nworld. GAIL India 2026\, with water as its central theme\, engages students in both reflection and \naction through Service\, Outdoor Education and Community-building\, challenging them to embrace \nadaptability\, resilience and empathy\, and to learn what it is to be a peace-maker and bridge-builder \nin the world.
URL:https://gailschools.org/event/2026-gail-conference-india/
LOCATION:Woodstock School\, India
END:VEVENT
END:VCALENDAR